BEGIN:VCALENDAR
VERSION:2.0
PRODID:-//Vienna Pastry Arts - ECPv5.1.1//NONSGML v1.0//EN
CALSCALE:GREGORIAN
METHOD:PUBLISH
X-WR-CALNAME:Vienna Pastry Arts
X-ORIGINAL-URL:https://www.viennapastryarts.at
X-WR-CALDESC:Veranstaltungen im Vienna Pastry Arts
BEGIN:VTIMEZONE
TZID:UTC
BEGIN:STANDARD
TZOFFSETFROM:+0000
TZOFFSETTO:+0000
TZNAME:UTC
DTSTART:20210101T000000
END:STANDARD
END:VTIMEZONE
BEGIN:VEVENT
DTSTART;VALUE=DATE:20211209
DTEND;VALUE=DATE:20211211
DTSTAMP:20260420T085118
CREATED:20200508T104415Z
LAST-MODIFIED:20211007T200016Z
UID:551-1639008000-1639180799@www.viennapastryarts.at
SUMMARY:Stückdessert - Moderne Eclairs
DESCRIPTION:Kompaktes Fachwissen to go\, gespickt mit Tipps und Tricks zum Thema Moderne Eclairs. Mit meiner fachmännischer Hilfestellung können Sie anschließend Ihr erlerntes Wissen bereits praktisch umsetzen – Genuss inklusive. \n \n \n \n
URL:https://www.viennapastryarts.at/workshop/551/
END:VEVENT
END:VCALENDAR