BEGIN:VCALENDAR
VERSION:2.0
PRODID:-//Vienna Pastry Arts - ECPv5.1.1//NONSGML v1.0//EN
CALSCALE:GREGORIAN
METHOD:PUBLISH
X-WR-CALNAME:Vienna Pastry Arts
X-ORIGINAL-URL:https://www.viennapastryarts.at
X-WR-CALDESC:Veranstaltungen im Vienna Pastry Arts
BEGIN:VTIMEZONE
TZID:UTC
BEGIN:STANDARD
TZOFFSETFROM:+0000
TZOFFSETTO:+0000
TZNAME:UTC
DTSTART:20240101T000000
END:STANDARD
END:VTIMEZONE
BEGIN:VEVENT
DTSTART;VALUE=DATE:20241121
DTEND;VALUE=DATE:20241221
DTSTAMP:20260420T085837
CREATED:20200508T111704Z
LAST-MODIFIED:20240507T065316Z
UID:560-1732147200-1734739199@www.viennapastryarts.at
SUMMARY:Lehrgang Patisserie
DESCRIPTION:Aktiv-Workshop: Die Kunst der Patisserie für Hobbybäcker und Profis \nHol dir deinen Titel Diplomierter Patissier. \nWillkommen zu einem einzigartigen Workshop\, der sowohl für leidenschaftliche Hobbybäcker als auch für erfahrene Profis gleichermaßen spannend ist. Tauche ein in die faszinierende Welt der Patisserie und erlebe\, wie du deine Backkünste auf ein neues Level hebst. \nDieser Workshop ist darauf ausgerichtet\, deine Fertigkeiten und dein Wissen auf vielfältige Weise zu erweitern. Egal\, ob du schon jahrelang im Reich der süssen Kunst tätig bist oder gerade erst deine Reise beginnst\, hier findest du eine inspirierende Umgebung\, um deine Leidenschaft fürs Backen zu entfachen oder weiter zu vertiefen. \nDu wirst nicht nur die Grundlagen der Patisserie kennenlernen\, sondern auch modernste Techniken und aktuelle Trends integrieren. Die Verbindung von traditionellen Ansätzen mit innovativen Ideen ermöglicht es dir\, atemberaubende Patisserie-Kreationen im französischen Stil zu zaubern. Und das Beste daran? Du wirst lernen\, wie du deine persönliche Note in jedes Dessert einbringst\, um wirklich einzigartige Meisterwerke zu schaffen. \nMein  Workshop legt nicht nur Wert auf das Handwerkliche\, sondern auch auf die Kunst der Präsentation. Du wirst lernen\, wie du deine Kreationen perfekt in Szene setzt\, um nicht nur den Gaumen\, sondern auch die Augen deiner Gäste zu begeistern. Denn ein wahrhaft gelungenes Dessert spricht alle Sinne an. \nHier kannst du Fragen stellen\, Techniken aneignen und dich von der Energie der Gleichgesinnten inspirieren lassen. \nBist du bereit\, deine Backleidenschaft auf das nächste Level zu bringen?  \nDann lass uns gemeinsam die Welt der Patisserie  entdecken – sei dabei! \n \n
URL:https://www.viennapastryarts.at/workshop/lehrgang-patisserie-2/
LOCATION:Wifi St. Pölten
END:VEVENT
END:VCALENDAR