BEGIN:VCALENDAR
VERSION:2.0
PRODID:-//Vienna Pastry Arts - ECPv5.1.1//NONSGML v1.0//EN
CALSCALE:GREGORIAN
METHOD:PUBLISH
X-WR-CALNAME:Vienna Pastry Arts
X-ORIGINAL-URL:https://www.viennapastryarts.at
X-WR-CALDESC:Veranstaltungen im Vienna Pastry Arts
BEGIN:VTIMEZONE
TZID:UTC
BEGIN:STANDARD
TZOFFSETFROM:+0000
TZOFFSETTO:+0000
TZNAME:UTC
DTSTART:20250101T000000
END:STANDARD
END:VTIMEZONE
BEGIN:VEVENT
DTSTART;VALUE=DATE:20250414
DTEND;VALUE=DATE:20250415
DTSTAMP:20260421T115924
CREATED:20250308T132217Z
LAST-MODIFIED:20250308T132217Z
UID:842-1744588800-1744675199@www.viennapastryarts.at
SUMMARY:5-Tägiger Schokoladen-Intensivkurs
DESCRIPTION:5-Tägiger Schokoladen-Intensivkurs\nWillkommen zu einem einzigartigen 5-tägigen Schokoladen-Intensivkurs\, der sowohl für leidenschaftliche Hobbybäcker als auch für erfahrene Profis geeignetist. Tauche ein in die faszinierende Welt der Schokolade. \nWas erwartet dich? \nDieser Intensivkurs bietet eine tiefgehende und praxisnahe Auseinandersetzung mit der Kunst der Schokolade. Egal\, ob du schon Erfahrung hast oder erst am Anfang deiner Reise stehst – hier kannst du dich kreativ entfalten\, dein Wissen erweitern und neue Techniken erlernen.  \n \nInfos zum Workshop\nDie Grundlagen der Schokolade \n\nEigenschaften von Schokolade\nTemperiertechniken: Die perfekte Konsistenz für Pralinen und Desserts\nHerstellung von Schokoladen-Dekorationen\n\nSchokoladen-Pralinen & Füllungen \n\nHerstellung klassischer und moderner Pralinen\nFüllungen: Von Ganache bis Karamell\nKreative Dekortechniken\n\n\nBis hin zu einem kleinen Schokoladenschaustück \n\nWarum solltest du dabei sein?\n\nPraxisorientierter Workshop: Du wirst aktiv mitarbeiten und deine Fähigkeiten in realen Szenarien perfektionieren.\nProfessionelle Anleitung: Ich als Chocolatier teile wertvolle Tipps und Tricks.\nKreatives Umfeld: Lerne in einer motivierenden Umgebung mit Gleichgesinnten und lasse dich inspirieren.\n\nExklusive Rezepturen & Techniken: Entdecke neue Methoden\, um deine Schokoladenkreationen auf das nächste Level zu heben. \n
URL:https://www.viennapastryarts.at/workshop/5-taegiger-schokoladen-intensivkurs/
LOCATION:Wifi St. Pölten
END:VEVENT
BEGIN:VEVENT
DTSTART;TZID=UTC:20250423T083000
DTEND;TZID=UTC:20250423T163000
DTSTAMP:20260421T115924
CREATED:20250216T095113Z
LAST-MODIFIED:20250216T095113Z
UID:813-1745397000-1745425800@www.viennapastryarts.at
SUMMARY:Profikurs für Konditor:innen
DESCRIPTION:Tauche ein in die Welt der German & Austrian Chocolate Masters und stelle unter Anleitung von Johannes Warmuth die Produkte des Central Europe Chocolate Master Entscheids selbst her. \nAktiv Kurs\, mit Johannes Warmuth\, Konditormeister\, Chocolatier & Central Europe Chocolate Master. \n\n\nWer kann teilnehmen?\nDieser Kurs richtet sich an max. 10 gelernte Konditor*innen und Patissiers. \nKreationen im Kurs\n\n\nPuzzlecake\, mit einer Chamäleon-Optik\, inspiriert vom Tiergarten Schönbrunn in Wien\n\n\nDessertkreation\, Schokolade\, Portwein\, Kirsche & Pinienkerne in harmonischer Kombination\nPraline\, mit einer Kombination aus Pistazie\, Safran & Cassis\n\n\n\n\n\nExklusive Inhalte\n\n\nTipps & Tricks aus erster Hand\n\n\nKreative Ideenfindung & geschmackliche Analyse aus Sicht eines Schokoladen-Sommeliers\n\n\nSpezialtechniken: Siebdruck & Schokoladendekor für perfekte Veredelung\n\n \n\n\n\n
URL:https://www.viennapastryarts.at/workshop/profikurs-fuer-konditorinnen/
LOCATION:Patisserie Johanna\, Am Sandtorkai 23-24\, Hamburg\, 20457
END:VEVENT
END:VCALENDAR